BEGIN:VCALENDAR
VERSION:2.0
PRODID:-//Federación de Natación de la Región de Murcia - ECPv6.15.20//NONSGML v1.0//EN
CALSCALE:GREGORIAN
METHOD:PUBLISH
X-WR-CALNAME:Federación de Natación de la Región de Murcia
X-ORIGINAL-URL:https://fnrm.es
X-WR-CALDESC:Eventos para Federación de Natación de la Región de Murcia
REFRESH-INTERVAL;VALUE=DURATION:PT1H
X-Robots-Tag:noindex
X-PUBLISHED-TTL:PT1H
BEGIN:VTIMEZONE
TZID:UTC
BEGIN:STANDARD
TZOFFSETFROM:+0000
TZOFFSETTO:+0000
TZNAME:UTC
DTSTART:20250101T000000
END:STANDARD
END:VTIMEZONE
BEGIN:VEVENT
DTSTART;TZID=UTC:20260425T163000
DTEND;TZID=UTC:20260425T203000
DTSTAMP:20260422T002014
CREATED:20260417T173022Z
LAST-MODIFIED:20260421T093601Z
UID:8618-1777134600-1777149000@fnrm.es
SUMMARY:7ª JORNADA DE LIGA PBA
DESCRIPTION:Normativa /Listado Inscritos /SUMARIO FINAL /Series /HORARIO / \nCalentamiento en breve
URL:https://fnrm.es/evento/7a-jornada-de-liga-pba-3/
CATEGORIES:LIGA P-B-A,Temporada 2025/2026
ATTACH;FMTTYPE=image/jpeg:https://fnrm.es/wp-content/uploads/2026/04/2026-04-25-Cartel-7a-PBA.jpeg
END:VEVENT
END:VCALENDAR