BEGIN:VCALENDAR
VERSION:2.0
PRODID:-//Federación de Natación de la Región de Murcia - ECPv6.15.20//NONSGML v1.0//EN
CALSCALE:GREGORIAN
METHOD:PUBLISH
X-ORIGINAL-URL:https://fnrm.es
X-WR-CALDESC:Eventos para Federación de Natación de la Región de Murcia
REFRESH-INTERVAL;VALUE=DURATION:PT1H
X-Robots-Tag:noindex
X-PUBLISHED-TTL:PT1H
BEGIN:VTIMEZONE
TZID:UTC
BEGIN:STANDARD
TZOFFSETFROM:+0000
TZOFFSETTO:+0000
TZNAME:UTC
DTSTART:20240101T000000
END:STANDARD
END:VTIMEZONE
BEGIN:VEVENT
DTSTART;TZID=UTC:20251018T183000
DTEND;TZID=UTC:20251018T203000
DTSTAMP:20260421T100541
CREATED:20251013T165849Z
LAST-MODIFIED:20251023T063702Z
UID:8224-1760812200-1760819400@fnrm.es
SUMMARY:GALA FNRM 2025
DESCRIPTION:El próximo sábado 18/10/2025 tendrá lugar en el municipio de San Javier\, en el Auditorio Municipal Parque Almansa\, la GALA ANUAL de la temporada 24/25 de esta federación\, en la cual se premiará a los mejores deportistas y se homenajeará a personalidades de esta federación.\nFelicitar a todos los premiados de las diferentes ligas y campeonatos de Natación\, Waterpolo\, Natación Artística\, Aguas Abiertas y Master y agradecer al Ayuntamiento de San Javier\, al CN San Javier Mar Menor y su presidente D. Joaquín San Nicolás la ayuda y predisposición para la organización de este evento. \nPREMIACIONES ARTÍSTICA / \nPREMIACIONES LIGA AGUAS ABIERTAS DEPORTISTAS / PREMIACIONES LIGA AGUAS ABIERTAS MÁSTER/ \nPREMIACIONES LIGA IJA FEMENINA  / PREMIACIONES LIGA IJA MASCULINA  / \nPREMIACIONES LIGA PBA  / PREMIACIONES LIGA MASTER / \nEnlace Fotos Gala FNRM 2025  / \n 
URL:https://fnrm.es/evento/gala-fnrm-2025/
CATEGORIES:Gala,Temporada 2024-2025
ATTACH;FMTTYPE=image/jpeg:https://fnrm.es/wp-content/uploads/2025/10/Cartel-Gala-corr.jpg
END:VEVENT
END:VCALENDAR