BEGIN:VCALENDAR
VERSION:2.0
PRODID:-//Federación de Natación de la Región de Murcia - ECPv6.15.20//NONSGML v1.0//EN
CALSCALE:GREGORIAN
METHOD:PUBLISH
X-WR-CALNAME:Federación de Natación de la Región de Murcia
X-ORIGINAL-URL:https://fnrm.es
X-WR-CALDESC:Eventos para Federación de Natación de la Región de Murcia
REFRESH-INTERVAL;VALUE=DURATION:PT1H
X-Robots-Tag:noindex
X-PUBLISHED-TTL:PT1H
BEGIN:VTIMEZONE
TZID:UTC
BEGIN:STANDARD
TZOFFSETFROM:+0000
TZOFFSETTO:+0000
TZNAME:UTC
DTSTART:20250101T000000
END:STANDARD
END:VTIMEZONE
BEGIN:VEVENT
DTSTART;TZID=UTC:20260307T100000
DTEND;TZID=UTC:20260307T193500
DTSTAMP:20260422T064806
CREATED:20260206T092132Z
LAST-MODIFIED:20260308T104455Z
UID:8503-1772877600-1772912100@fnrm.es
SUMMARY:5ª JORNADA DE LIGA PBA
DESCRIPTION:Normativa /Listado Inscritos /SUMARIO FINAL /HORARIO /Calentamiento /Series /Resultados Online / \nTodos los Resultados oficiales /
URL:https://fnrm.es/evento/5a-jornada-de-liga-pba-3/
CATEGORIES:LIGA P-B-A,Temporada 2025/2026
ATTACH;FMTTYPE=image/jpeg:https://fnrm.es/wp-content/uploads/2026/02/2026-02-14-5a-PBA.jpeg
END:VEVENT
BEGIN:VEVENT
DTSTART;TZID=UTC:20260314T093000
DTEND;TZID=UTC:20260314T134000
DTSTAMP:20260422T064806
CREATED:20260306T095957Z
LAST-MODIFIED:20260314T175455Z
UID:8541-1773480600-1773495600@fnrm.es
SUMMARY:6ª JORNADA DE LIGA PBA
DESCRIPTION:Por motivos logísticos este Evento no se va a poder realizar en la instalación prevista\, Jumilla. La nueva sede para esta 6ª Jornada PBA será Fuente Álamo. La fecha de la competición será la misma 14/03/2026. \nNormativa /Listado Inscritos /SUMARIO FINAL /Series /HORARIO /Calentamiento /Resultados Online / \nResultados Oficiales / \n 
URL:https://fnrm.es/evento/6a-jornada-de-liga-pba-3/
CATEGORIES:Liga,LIGA P-B-A,Temporada 2025/2026
ATTACH;FMTTYPE=image/jpeg:https://fnrm.es/wp-content/uploads/2026/03/2026-03-14-Cartel-6a-PBA.jpeg
ORGANIZER;CN="FNRM - Federaci%C3%B3n de Nataci%C3%B3n de la Regi%C3%B3n de Murcia":MAILTO:fnrm@fnrm.es
END:VEVENT
END:VCALENDAR